BEGIN:VCALENDAR
VERSION:2.0
PRODID:-//Live &#039;80s Kansas City - ECPv5.6.0//NONSGML v1.0//EN
CALSCALE:GREGORIAN
METHOD:PUBLISH
X-WR-CALNAME:Live &#039;80s Kansas City
X-ORIGINAL-URL:https://www.live80skc.com
X-WR-CALDESC:Events for Live &#039;80s Kansas City
BEGIN:VTIMEZONE
TZID:America/Chicago
BEGIN:DAYLIGHT
TZOFFSETFROM:-0600
TZOFFSETTO:-0500
TZNAME:CDT
DTSTART:20170312T080000
END:DAYLIGHT
BEGIN:STANDARD
TZOFFSETFROM:-0500
TZOFFSETTO:-0600
TZNAME:CST
DTSTART:20171105T070000
END:STANDARD
END:VTIMEZONE
BEGIN:VEVENT
DTSTART;TZID=America/Chicago:20170916T190000
DTEND;TZID=America/Chicago:20170916T220000
DTSTAMP:20260423T080552
CREATED:20170429T191743Z
LAST-MODIFIED:20170429T191743Z
UID:4030-1505588400-1505599200@www.live80skc.com
SUMMARY:38 Special
DESCRIPTION:
URL:https://www.live80skc.com/kansas-city-concert/38-special-e-h-young-riverfront-park/
LOCATION:E.H. Young Riverfront Park\, 1001 Argosy Parkway\, Kansas City\, MO\, 64150\, United States
END:VEVENT
END:VCALENDAR