BEGIN:VCALENDAR
VERSION:2.0
PRODID:-//Live &#039;80s Kansas City - ECPv5.6.0//NONSGML v1.0//EN
CALSCALE:GREGORIAN
METHOD:PUBLISH
X-WR-CALNAME:Live &#039;80s Kansas City
X-ORIGINAL-URL:https://www.live80skc.com
X-WR-CALDESC:Events for Live &#039;80s Kansas City
BEGIN:VTIMEZONE
TZID:America/Chicago
BEGIN:DAYLIGHT
TZOFFSETFROM:-0600
TZOFFSETTO:-0500
TZNAME:CDT
DTSTART:20190310T080000
END:DAYLIGHT
BEGIN:STANDARD
TZOFFSETFROM:-0500
TZOFFSETTO:-0600
TZNAME:CST
DTSTART:20191103T070000
END:STANDARD
END:VTIMEZONE
BEGIN:VEVENT
DTSTART;TZID=America/Chicago:20190302T010000
DTEND;TZID=America/Chicago:20190309T130000
DTSTAMP:20260423T051552
CREATED:20190210T162442Z
LAST-MODIFIED:20190210T163409Z
UID:8263-1551488400-1552136400@www.live80skc.com
SUMMARY:The 80s Cruise hosted by Dee Snider
DESCRIPTION:The 80s Cruise hosted by Dee Snider and featuring Kenny Loggins\, Sheila E.\, Starship\, OMD\, Berlin feat. Terri Nunn\, The Fixx\, English Beat\, Grandmaster Flash\, Cutting Crew\, Club Nouveau and more!
URL:https://www.live80skc.com/kansas-city-concert/80s-cruise-hosted-by-dee-snider-2019/
LOCATION:Fort Lauderdale\, FL
CATEGORIES:Cruise
END:VEVENT
END:VCALENDAR