BEGIN:VCALENDAR
VERSION:2.0
PRODID:-//Live &#039;80s Kansas City - ECPv5.6.0//NONSGML v1.0//EN
CALSCALE:GREGORIAN
METHOD:PUBLISH
X-WR-CALNAME:Live &#039;80s Kansas City
X-ORIGINAL-URL:https://www.live80skc.com
X-WR-CALDESC:Events for Live &#039;80s Kansas City
BEGIN:VTIMEZONE
TZID:America/Chicago
BEGIN:DAYLIGHT
TZOFFSETFROM:-0600
TZOFFSETTO:-0500
TZNAME:CDT
DTSTART:20190310T080000
END:DAYLIGHT
BEGIN:STANDARD
TZOFFSETFROM:-0500
TZOFFSETTO:-0600
TZNAME:CST
DTSTART:20191103T070000
END:STANDARD
END:VTIMEZONE
BEGIN:VEVENT
DTSTART;TZID=America/Chicago:20190503T120000
DTEND;TZID=America/Chicago:20190505T000000
DTSTAMP:20260423T035529
CREATED:20190210T165942Z
LAST-MODIFIED:20190210T165942Z
UID:8271-1556884800-1557014400@www.live80skc.com
SUMMARY:80s in the Desert
DESCRIPTION:A 2-day 80s convention at The Rio Convention Center in Las Vegas featuring daytime vendor booths and appearances by Robert Hays\, Tawny Kitaen\, Diane Franklin\, E.G. Daily\, Robert Romanus\, Julia Montgomery and Brian Tochi plus nighttime performances by Scandal feat. Patty Smyth\, A Flock of Seagulls feat. Mike Score\, Richard Page of Mr. Mister\, Tony Lewis from The Outfield\, Pretty Poison\, Thomas Dolby and more!
URL:https://www.live80skc.com/kansas-city-concert/80s-in-the-desert-las-vegas-2019/
LOCATION:The Rio Convention Center\, 3700 W Flamingo Rd\, Las Vegas\, NV\, 89103\, United States
CATEGORIES:Convention
END:VEVENT
END:VCALENDAR