BEGIN:VCALENDAR
VERSION:2.0
PRODID:-//Live &#039;80s Kansas City - ECPv5.6.0//NONSGML v1.0//EN
CALSCALE:GREGORIAN
METHOD:PUBLISH
X-WR-CALNAME:Live &#039;80s Kansas City
X-ORIGINAL-URL:https://www.live80skc.com
X-WR-CALDESC:Events for Live &#039;80s Kansas City
BEGIN:VTIMEZONE
TZID:America/Chicago
BEGIN:DAYLIGHT
TZOFFSETFROM:-0600
TZOFFSETTO:-0500
TZNAME:CDT
DTSTART:20260308T080000
END:DAYLIGHT
BEGIN:STANDARD
TZOFFSETFROM:-0500
TZOFFSETTO:-0600
TZNAME:CST
DTSTART:20261101T070000
END:STANDARD
END:VTIMEZONE
BEGIN:VEVENT
DTSTART;TZID=America/Chicago:20260507T193000
DTEND;TZID=America/Chicago:20260507T220000
DTSTAMP:20260423T011826
CREATED:20260220T202843Z
LAST-MODIFIED:20260220T202843Z
UID:17831-1778182200-1778191200@www.live80skc.com
SUMMARY:A Flock of Seagulls w/ Strangelove
DESCRIPTION:
URL:https://www.live80skc.com/kansas-city-concert/a-flock-of-seagulls-knuckleheads-2026/
LOCATION:Knuckleheads Saloon\, 2715 Rochester Avenue\, Kansas City\, MO\, 64120\, United States
END:VEVENT
END:VCALENDAR