BEGIN:VCALENDAR
VERSION:2.0
PRODID:-//Live &#039;80s Kansas City - ECPv5.6.0//NONSGML v1.0//EN
CALSCALE:GREGORIAN
METHOD:PUBLISH
X-WR-CALNAME:Live &#039;80s Kansas City
X-ORIGINAL-URL:https://www.live80skc.com
X-WR-CALDESC:Events for Live &#039;80s Kansas City
BEGIN:VTIMEZONE
TZID:America/Chicago
BEGIN:DAYLIGHT
TZOFFSETFROM:-0600
TZOFFSETTO:-0500
TZNAME:CDT
DTSTART:20190310T080000
END:DAYLIGHT
BEGIN:STANDARD
TZOFFSETFROM:-0500
TZOFFSETTO:-0600
TZNAME:CST
DTSTART:20191103T070000
END:STANDARD
END:VTIMEZONE
BEGIN:VEVENT
DTSTART;TZID=America/Chicago:20190627T180000
DTEND;TZID=America/Chicago:20190627T220000
DTSTAMP:20260423T035625
CREATED:20190520T200242Z
LAST-MODIFIED:20190520T200516Z
UID:8783-1561658400-1561672800@www.live80skc.com
SUMMARY:A Flock of Seagulls at Sunset Music Fest
DESCRIPTION:
URL:https://www.live80skc.com/kansas-city-concert/a-flock-of-seagulls-sunset-music-fest-2019/
LOCATION:Sunset Music Fest\, 5000 West 119th Street\, Leawood\, KS\, 66209\, United States
CATEGORIES:Festival
END:VEVENT
END:VCALENDAR