BEGIN:VCALENDAR
VERSION:2.0
PRODID:-//Live &#039;80s Kansas City - ECPv5.6.0//NONSGML v1.0//EN
CALSCALE:GREGORIAN
METHOD:PUBLISH
X-WR-CALNAME:Live &#039;80s Kansas City
X-ORIGINAL-URL:https://www.live80skc.com
X-WR-CALDESC:Events for Live &#039;80s Kansas City
BEGIN:VTIMEZONE
TZID:America/Chicago
BEGIN:DAYLIGHT
TZOFFSETFROM:-0600
TZOFFSETTO:-0500
TZNAME:CDT
DTSTART:20250309T080000
END:DAYLIGHT
BEGIN:STANDARD
TZOFFSETFROM:-0500
TZOFFSETTO:-0600
TZNAME:CST
DTSTART:20251102T070000
END:STANDARD
END:VTIMEZONE
BEGIN:VEVENT
DTSTART;TZID=America/Chicago:20250517T193000
DTEND;TZID=America/Chicago:20250517T220000
DTSTAMP:20260423T050218
CREATED:20250101T184214Z
LAST-MODIFIED:20250101T184214Z
UID:16276-1747510200-1747519200@www.live80skc.com
SUMMARY:Alison Krauss & Union Station feat. Jerry Douglas
DESCRIPTION:
URL:https://www.live80skc.com/kansas-city-concert/alison-krauss-starlight-theatre-2025/
LOCATION:Starlight Theatre\, 4600 Starlight Road\, Kansas City\, MO\, 64132\, United States
END:VEVENT
END:VCALENDAR