BEGIN:VCALENDAR
VERSION:2.0
PRODID:-//Live &#039;80s Kansas City - ECPv5.6.0//NONSGML v1.0//EN
CALSCALE:GREGORIAN
METHOD:PUBLISH
X-WR-CALNAME:Live &#039;80s Kansas City
X-ORIGINAL-URL:https://www.live80skc.com
X-WR-CALDESC:Events for Live &#039;80s Kansas City
BEGIN:VTIMEZONE
TZID:America/Chicago
BEGIN:DAYLIGHT
TZOFFSETFROM:-0600
TZOFFSETTO:-0500
TZNAME:CDT
DTSTART:20170312T080000
END:DAYLIGHT
BEGIN:STANDARD
TZOFFSETFROM:-0500
TZOFFSETTO:-0600
TZNAME:CST
DTSTART:20171105T070000
END:STANDARD
END:VTIMEZONE
BEGIN:VEVENT
DTSTART;TZID=America/Chicago:20171104T083000
DTEND;TZID=America/Chicago:20171104T233000
DTSTAMP:20260423T024513
CREATED:20170914T024849Z
LAST-MODIFIED:20180224T214405Z
UID:4898-1509784200-1509838200@www.live80skc.com
SUMMARY:Ambrosia
DESCRIPTION:
URL:https://www.live80skc.com/kansas-city-concert/ambrosia-knuckleheads-saloon-kansas-city-2017/
LOCATION:Knuckleheads Saloon\, 2715 Rochester Avenue\, Kansas City\, MO\, 64120\, United States
END:VEVENT
END:VCALENDAR