BEGIN:VCALENDAR
VERSION:2.0
PRODID:-//Live &#039;80s Kansas City - ECPv5.6.0//NONSGML v1.0//EN
CALSCALE:GREGORIAN
METHOD:PUBLISH
X-WR-CALNAME:Live &#039;80s Kansas City
X-ORIGINAL-URL:https://www.live80skc.com
X-WR-CALDESC:Events for Live &#039;80s Kansas City
BEGIN:VTIMEZONE
TZID:America/Chicago
BEGIN:DAYLIGHT
TZOFFSETFROM:-0600
TZOFFSETTO:-0500
TZNAME:CDT
DTSTART:20180311T080000
END:DAYLIGHT
BEGIN:STANDARD
TZOFFSETFROM:-0500
TZOFFSETTO:-0600
TZNAME:CST
DTSTART:20181104T070000
END:STANDARD
END:VTIMEZONE
BEGIN:VEVENT
DTSTART;TZID=America/Chicago:20181201T200000
DTEND;TZID=America/Chicago:20181201T230000
DTSTAMP:20260423T065505
CREATED:20181112T014826Z
LAST-MODIFIED:20181112T014826Z
UID:7675-1543694400-1543705200@www.live80skc.com
SUMMARY:Anita Baker : Farewell Concert Series - Night 2
DESCRIPTION:
URL:https://www.live80skc.com/kansas-city-concert/anita-baker-kansas-city-music-hall-night-2-2018/
LOCATION:Kansas City Music Hall\, 301 West 13th Street\, Kansas City\, MO\, 64105\, United States
CATEGORIES:Kansas City Music Hall,Theater
END:VEVENT
END:VCALENDAR