BEGIN:VCALENDAR
VERSION:2.0
PRODID:-//Live &#039;80s Kansas City - ECPv5.6.0//NONSGML v1.0//EN
CALSCALE:GREGORIAN
METHOD:PUBLISH
X-WR-CALNAME:Live &#039;80s Kansas City
X-ORIGINAL-URL:https://www.live80skc.com
X-WR-CALDESC:Events for Live &#039;80s Kansas City
BEGIN:VTIMEZONE
TZID:UTC
BEGIN:STANDARD
TZOFFSETFROM:+0000
TZOFFSETTO:+0000
TZNAME:UTC
DTSTART:20160101T000000
END:STANDARD
END:VTIMEZONE
BEGIN:VEVENT
DTSTART;TZID=UTC:20160604T193000
DTEND;TZID=UTC:20160604T230000
DTSTAMP:20260423T064202
CREATED:20160414T035009Z
LAST-MODIFIED:20160525T053827Z
UID:2142-1465068600-1465081200@www.live80skc.com
SUMMARY:Barenaked Ladies w/ Howard Jones & OMD
DESCRIPTION:
URL:https://www.live80skc.com/kansas-city-concert/barenaked-ladies-w-howard-jones-omd/
LOCATION:Starlight Theatre\, 4600 Starlight Road\, Kansas City\, MO\, 64132\, United States
END:VEVENT
END:VCALENDAR