BEGIN:VCALENDAR
VERSION:2.0
PRODID:-//Live &#039;80s Kansas City - ECPv5.6.0//NONSGML v1.0//EN
CALSCALE:GREGORIAN
METHOD:PUBLISH
X-WR-CALNAME:Live &#039;80s Kansas City
X-ORIGINAL-URL:https://www.live80skc.com
X-WR-CALDESC:Events for Live &#039;80s Kansas City
BEGIN:VTIMEZONE
TZID:America/Chicago
BEGIN:DAYLIGHT
TZOFFSETFROM:-0600
TZOFFSETTO:-0500
TZNAME:CDT
DTSTART:20170312T080000
END:DAYLIGHT
BEGIN:STANDARD
TZOFFSETFROM:-0500
TZOFFSETTO:-0600
TZNAME:CST
DTSTART:20171105T070000
END:STANDARD
END:VTIMEZONE
BEGIN:VEVENT
DTSTART;TZID=America/Chicago:20170718T070000
DTEND;TZID=America/Chicago:20170718T220000
DTSTAMP:20260423T054052
CREATED:20170209T040520Z
LAST-MODIFIED:20170721T010749Z
UID:3545-1500361200-1500415200@www.live80skc.com
SUMMARY:Blondie
DESCRIPTION:
URL:https://www.live80skc.com/kansas-city-concert/blondie-kauffman-center/
LOCATION:Kauffman Center for the Performing Arts\, 1601 Broadway Boulevard\, Kansas City\, MO\, 64108\, United States
END:VEVENT
END:VCALENDAR