BEGIN:VCALENDAR
VERSION:2.0
PRODID:-//Live &#039;80s Kansas City - ECPv5.6.0//NONSGML v1.0//EN
CALSCALE:GREGORIAN
METHOD:PUBLISH
X-WR-CALNAME:Live &#039;80s Kansas City
X-ORIGINAL-URL:https://www.live80skc.com
X-WR-CALDESC:Events for Live &#039;80s Kansas City
BEGIN:VTIMEZONE
TZID:America/Chicago
BEGIN:DAYLIGHT
TZOFFSETFROM:-0600
TZOFFSETTO:-0500
TZNAME:CDT
DTSTART:20260308T080000
END:DAYLIGHT
BEGIN:STANDARD
TZOFFSETFROM:-0500
TZOFFSETTO:-0600
TZNAME:CST
DTSTART:20261101T070000
END:STANDARD
END:VTIMEZONE
BEGIN:VEVENT
DTSTART;TZID=America/Chicago:20260915T180000
DTEND;TZID=America/Chicago:20260915T230000
DTSTAMP:20260423T035506
CREATED:20260121T192919Z
LAST-MODIFIED:20260121T192953Z
UID:17807-1789495200-1789513200@www.live80skc.com
SUMMARY:Blues Traveler & Gin Blossoms w/ Spin Doctors
DESCRIPTION:
URL:https://www.live80skc.com/kansas-city-concert/blues-traveler-gin-blossoms-starlight-2026/
LOCATION:Starlight Theatre\, 4600 Starlight Road\, Kansas City\, MO\, 64132\, United States
END:VEVENT
END:VCALENDAR