BEGIN:VCALENDAR
VERSION:2.0
PRODID:-//Live &#039;80s Kansas City - ECPv5.6.0//NONSGML v1.0//EN
CALSCALE:GREGORIAN
METHOD:PUBLISH
X-WR-CALNAME:Live &#039;80s Kansas City
X-ORIGINAL-URL:https://www.live80skc.com
X-WR-CALDESC:Events for Live &#039;80s Kansas City
BEGIN:VTIMEZONE
TZID:UTC
BEGIN:STANDARD
TZOFFSETFROM:+0000
TZOFFSETTO:+0000
TZNAME:UTC
DTSTART:20160101T000000
END:STANDARD
END:VTIMEZONE
BEGIN:VEVENT
DTSTART;TZID=UTC:20161019T200000
DTEND;TZID=UTC:20161019T230000
DTSTAMP:20260423T063838
CREATED:20160509T014935Z
LAST-MODIFIED:20160925T212649Z
UID:2280-1476907200-1476918000@www.live80skc.com
SUMMARY:Bonnie Raitt
DESCRIPTION:
URL:https://www.live80skc.com/kansas-city-concert/bonnie-raitt/
LOCATION:The Midland Theatre\, 1228 Main Street\, Kansas City\, MO\, 64105\, United States
END:VEVENT
END:VCALENDAR