BEGIN:VCALENDAR
VERSION:2.0
PRODID:-//Live &#039;80s Kansas City - ECPv5.6.0//NONSGML v1.0//EN
CALSCALE:GREGORIAN
METHOD:PUBLISH
X-WR-CALNAME:Live &#039;80s Kansas City
X-ORIGINAL-URL:https://www.live80skc.com
X-WR-CALDESC:Events for Live &#039;80s Kansas City
BEGIN:VTIMEZONE
TZID:UTC
BEGIN:STANDARD
TZOFFSETFROM:+0000
TZOFFSETTO:+0000
TZNAME:UTC
DTSTART:20160101T000000
END:STANDARD
END:VTIMEZONE
BEGIN:VEVENT
DTSTART;TZID=UTC:20160605T063000
DTEND;TZID=UTC:20160605T230000
DTSTAMP:20260423T063955
CREATED:20160414T042330Z
LAST-MODIFIED:20160525T053658Z
UID:2149-1465108200-1465167600@www.live80skc.com
SUMMARY:Boston w/ Night Ranger & Foghat
DESCRIPTION:
URL:https://www.live80skc.com/kansas-city-concert/boston-w-night-ranger-foghat/
LOCATION:Starlight Theatre\, 4600 Starlight Road\, Kansas City\, MO\, 64132\, United States
END:VEVENT
END:VCALENDAR