BEGIN:VCALENDAR
VERSION:2.0
PRODID:-//Live &#039;80s Kansas City - ECPv5.6.0//NONSGML v1.0//EN
CALSCALE:GREGORIAN
METHOD:PUBLISH
X-WR-CALNAME:Live &#039;80s Kansas City
X-ORIGINAL-URL:https://www.live80skc.com
X-WR-CALDESC:Events for Live &#039;80s Kansas City
BEGIN:VTIMEZONE
TZID:America/Chicago
BEGIN:DAYLIGHT
TZOFFSETFROM:-0600
TZOFFSETTO:-0500
TZNAME:CDT
DTSTART:20200308T080000
END:DAYLIGHT
BEGIN:STANDARD
TZOFFSETFROM:-0500
TZOFFSETTO:-0600
TZNAME:CST
DTSTART:20201101T070000
END:STANDARD
END:VTIMEZONE
BEGIN:VEVENT
DTSTART;TZID=America/Chicago:20200130T190000
DTEND;TZID=America/Chicago:20200130T220000
DTSTAMP:20260423T051608
CREATED:20200102T181110Z
LAST-MODIFIED:20200102T181110Z
UID:10153-1580410800-1580421600@www.live80skc.com
SUMMARY:Bow Wow Wow & When in Rome
DESCRIPTION:
URL:https://www.live80skc.com/kansas-city-concert/bow-wow-wow-when-in-rome-aftershock-2020/
LOCATION:Aftershock\, 5240 Merriam Drive\, Merriam\, 66203\, United States
CATEGORIES:Aftershock,Club
END:VEVENT
END:VCALENDAR