BEGIN:VCALENDAR
VERSION:2.0
PRODID:-//Live &#039;80s Kansas City - ECPv5.6.0//NONSGML v1.0//EN
CALSCALE:GREGORIAN
METHOD:PUBLISH
X-WR-CALNAME:Live &#039;80s Kansas City
X-ORIGINAL-URL:https://www.live80skc.com
X-WR-CALDESC:Events for Live &#039;80s Kansas City
BEGIN:VTIMEZONE
TZID:America/Chicago
BEGIN:DAYLIGHT
TZOFFSETFROM:-0600
TZOFFSETTO:-0500
TZNAME:CDT
DTSTART:20240310T080000
END:DAYLIGHT
BEGIN:STANDARD
TZOFFSETFROM:-0500
TZOFFSETTO:-0600
TZNAME:CST
DTSTART:20241103T070000
END:STANDARD
END:VTIMEZONE
BEGIN:VEVENT
DTSTART;TZID=America/Chicago:20240804T193000
DTEND;TZID=America/Chicago:20240804T230000
DTSTAMP:20260423T035513
CREATED:20240416T024147Z
LAST-MODIFIED:20240416T024147Z
UID:15170-1722799800-1722812400@www.live80skc.com
SUMMARY:Boyz II Men
DESCRIPTION:
URL:https://www.live80skc.com/kansas-city-concert/boyz-ii-men-starlight-theatre-2024/
LOCATION:Starlight Theatre\, 4600 Starlight Road\, Kansas City\, MO\, 64132\, United States
CATEGORIES:Amphitheater,Starlight Theatre
END:VEVENT
END:VCALENDAR