BEGIN:VCALENDAR
VERSION:2.0
PRODID:-//Live &#039;80s Kansas City - ECPv5.6.0//NONSGML v1.0//EN
CALSCALE:GREGORIAN
METHOD:PUBLISH
X-WR-CALNAME:Live &#039;80s Kansas City
X-ORIGINAL-URL:https://www.live80skc.com
X-WR-CALDESC:Events for Live &#039;80s Kansas City
BEGIN:VTIMEZONE
TZID:America/Chicago
BEGIN:DAYLIGHT
TZOFFSETFROM:-0600
TZOFFSETTO:-0500
TZNAME:CDT
DTSTART:20220313T080000
END:DAYLIGHT
BEGIN:STANDARD
TZOFFSETFROM:-0500
TZOFFSETTO:-0600
TZNAME:CST
DTSTART:20221106T070000
END:STANDARD
END:VTIMEZONE
BEGIN:VEVENT
DTSTART;TZID=America/Chicago:20220819T193000
DTEND;TZID=America/Chicago:20220819T230000
DTSTAMP:20260423T080855
CREATED:20220521T032119Z
LAST-MODIFIED:20220521T032119Z
UID:12236-1660937400-1660950000@www.live80skc.com
SUMMARY:Boz Scaggs w/ Robert Cray
DESCRIPTION:
URL:https://www.live80skc.com/kansas-city-concert/boz-scaggs-robert-cray-kauffman-center-2022/
LOCATION:Kauffman Center for the Performing Arts\, 1601 Broadway Boulevard\, Kansas City\, MO\, 64108\, United States
CATEGORIES:Kauffman Center,Theater
END:VEVENT
END:VCALENDAR