BEGIN:VCALENDAR
VERSION:2.0
PRODID:-//Live &#039;80s Kansas City - ECPv5.6.0//NONSGML v1.0//EN
CALSCALE:GREGORIAN
METHOD:PUBLISH
X-WR-CALNAME:Live &#039;80s Kansas City
X-ORIGINAL-URL:https://www.live80skc.com
X-WR-CALDESC:Events for Live &#039;80s Kansas City
BEGIN:VTIMEZONE
TZID:America/Chicago
BEGIN:DAYLIGHT
TZOFFSETFROM:-0600
TZOFFSETTO:-0500
TZNAME:CDT
DTSTART:20190310T080000
END:DAYLIGHT
BEGIN:STANDARD
TZOFFSETFROM:-0500
TZOFFSETTO:-0600
TZNAME:CST
DTSTART:20191103T070000
END:STANDARD
END:VTIMEZONE
BEGIN:VEVENT
DTSTART;TZID=America/Chicago:20190813T193000
DTEND;TZID=America/Chicago:20190813T213000
DTSTAMP:20260423T024450
CREATED:20190507T193321Z
LAST-MODIFIED:20190507T193321Z
UID:8683-1565724600-1565731800@www.live80skc.com
SUMMARY:Bruce Hornsby & The Noisemakers
DESCRIPTION:
URL:https://www.live80skc.com/kansas-city-concert/bruce-hornsby-lied-center-lawrence-ks-2019/
LOCATION:Lied Center of Kansas\, 1600 Stewart Drive\, Lawrence\, KS\, 66045\, United States
CATEGORIES:Lied Center
END:VEVENT
END:VCALENDAR