BEGIN:VCALENDAR
VERSION:2.0
PRODID:-//Live &#039;80s Kansas City - ECPv5.6.0//NONSGML v1.0//EN
CALSCALE:GREGORIAN
METHOD:PUBLISH
X-WR-CALNAME:Live &#039;80s Kansas City
X-ORIGINAL-URL:https://www.live80skc.com
X-WR-CALDESC:Events for Live &#039;80s Kansas City
BEGIN:VTIMEZONE
TZID:UTC
BEGIN:STANDARD
TZOFFSETFROM:+0000
TZOFFSETTO:+0000
TZNAME:UTC
DTSTART:20160101T000000
END:STANDARD
END:VTIMEZONE
BEGIN:VEVENT
DTSTART;TZID=UTC:20160518T200000
DTEND;TZID=UTC:20160518T230000
DTSTAMP:20260423T110732
CREATED:20160414T033653Z
LAST-MODIFIED:20160513T013756Z
UID:2140-1463601600-1463612400@www.live80skc.com
SUMMARY:Bruce Hornsby & The Noisemakers
DESCRIPTION:Test text
URL:https://www.live80skc.com/kansas-city-concert/bruce-hornsby-the-noisemakers/
LOCATION:Knuckleheads Saloon\, 2715 Rochester Avenue\, Kansas City\, MO\, 64120\, United States
END:VEVENT
END:VCALENDAR