BEGIN:VCALENDAR
VERSION:2.0
PRODID:-//Live &#039;80s Kansas City - ECPv5.6.0//NONSGML v1.0//EN
CALSCALE:GREGORIAN
METHOD:PUBLISH
X-WR-CALNAME:Live &#039;80s Kansas City
X-ORIGINAL-URL:https://www.live80skc.com
X-WR-CALDESC:Events for Live &#039;80s Kansas City
BEGIN:VTIMEZONE
TZID:America/Chicago
BEGIN:DAYLIGHT
TZOFFSETFROM:-0600
TZOFFSETTO:-0500
TZNAME:CDT
DTSTART:20240310T080000
END:DAYLIGHT
BEGIN:STANDARD
TZOFFSETFROM:-0500
TZOFFSETTO:-0600
TZNAME:CST
DTSTART:20241103T070000
END:STANDARD
END:VTIMEZONE
BEGIN:VEVENT
DTSTART;TZID=America/Chicago:20240314T190000
DTEND;TZID=America/Chicago:20240314T220000
DTSTAMP:20260423T040458
CREATED:20231106T033411Z
LAST-MODIFIED:20231107T021007Z
UID:14610-1710442800-1710453600@www.live80skc.com
SUMMARY:Bruce Hornsby & yMusic present BrhyM
DESCRIPTION:
URL:https://www.live80skc.com/kansas-city-concert/bruce-hornsby-ymusic-present-brhym-kauffman-center-2024/
CATEGORIES:Kauffman Center,Theater
END:VEVENT
END:VCALENDAR