BEGIN:VCALENDAR
VERSION:2.0
PRODID:-//Live &#039;80s Kansas City - ECPv5.6.0//NONSGML v1.0//EN
CALSCALE:GREGORIAN
METHOD:PUBLISH
X-WR-CALNAME:Live &#039;80s Kansas City
X-ORIGINAL-URL:https://www.live80skc.com
X-WR-CALDESC:Events for Live &#039;80s Kansas City
BEGIN:VTIMEZONE
TZID:America/Chicago
BEGIN:DAYLIGHT
TZOFFSETFROM:-0600
TZOFFSETTO:-0500
TZNAME:CDT
DTSTART:20230312T080000
END:DAYLIGHT
BEGIN:STANDARD
TZOFFSETFROM:-0500
TZOFFSETTO:-0600
TZNAME:CST
DTSTART:20231105T070000
END:STANDARD
END:VTIMEZONE
BEGIN:VEVENT
DTSTART;TZID=America/Chicago:20231106T193000
DTEND;TZID=America/Chicago:20231106T220000
DTSTAMP:20260423T063933
CREATED:20230609T023626Z
LAST-MODIFIED:20230609T023626Z
UID:13708-1699299000-1699308000@www.live80skc.com
SUMMARY:Buddy Guy
DESCRIPTION:
URL:https://www.live80skc.com/kansas-city-concert/buddy-guy-lied-center-lawrence-ks-2023/
LOCATION:Lied Center of Kansas\, 1600 Stewart Drive\, Lawrence\, KS\, 66045\, United States
CATEGORIES:Lied Center,Theater
END:VEVENT
END:VCALENDAR