BEGIN:VCALENDAR
VERSION:2.0
PRODID:-//Live &#039;80s Kansas City - ECPv5.6.0//NONSGML v1.0//EN
CALSCALE:GREGORIAN
METHOD:PUBLISH
X-WR-CALNAME:Live &#039;80s Kansas City
X-ORIGINAL-URL:https://www.live80skc.com
X-WR-CALDESC:Events for Live &#039;80s Kansas City
BEGIN:VTIMEZONE
TZID:America/Chicago
BEGIN:DAYLIGHT
TZOFFSETFROM:-0600
TZOFFSETTO:-0500
TZNAME:CDT
DTSTART:20200308T080000
END:DAYLIGHT
BEGIN:STANDARD
TZOFFSETFROM:-0500
TZOFFSETTO:-0600
TZNAME:CST
DTSTART:20201101T070000
END:STANDARD
END:VTIMEZONE
BEGIN:VEVENT
DTSTART;TZID=America/Chicago:20200624T183000
DTEND;TZID=America/Chicago:20200624T220000
DTSTAMP:20260423T040447
CREATED:20191203T223544Z
LAST-MODIFIED:20200525T161031Z
UID:10071-1593023400-1593036000@www.live80skc.com
SUMMARY:Chicago w/ Rick Springfield - POSTPONED
DESCRIPTION:
URL:https://www.live80skc.com/kansas-city-concert/chicago-rick-springfield-starlight-theatre-2020/
LOCATION:Starlight Theatre\, 4600 Starlight Road\, Kansas City\, MO\, 64132\, United States
CATEGORIES:Starlight Theatre,Theater
END:VEVENT
END:VCALENDAR