BEGIN:VCALENDAR
VERSION:2.0
PRODID:-//Live &#039;80s Kansas City - ECPv5.6.0//NONSGML v1.0//EN
CALSCALE:GREGORIAN
METHOD:PUBLISH
X-WR-CALNAME:Live &#039;80s Kansas City
X-ORIGINAL-URL:https://www.live80skc.com
X-WR-CALDESC:Events for Live &#039;80s Kansas City
BEGIN:VTIMEZONE
TZID:America/Chicago
BEGIN:DAYLIGHT
TZOFFSETFROM:-0600
TZOFFSETTO:-0500
TZNAME:CDT
DTSTART:20220313T080000
END:DAYLIGHT
BEGIN:STANDARD
TZOFFSETFROM:-0500
TZOFFSETTO:-0600
TZNAME:CST
DTSTART:20221106T070000
END:STANDARD
END:VTIMEZONE
BEGIN:VEVENT
DTSTART;TZID=America/Chicago:20220701T190000
DTEND;TZID=America/Chicago:20220701T230000
DTSTAMP:20260423T042232
CREATED:20220602T034714Z
LAST-MODIFIED:20220602T035856Z
UID:12275-1656702000-1656716400@www.live80skc.com
SUMMARY:Howard Hewett\, Miki Howard\, Alexander O’Neal\, Cherrelle & Keith Washington
DESCRIPTION:
URL:https://www.live80skc.com/kansas-city-concert/classic-r-and-b-concert-music-hall-2022/
LOCATION:Kansas City Music Hall\, 301 West 13th Street\, Kansas City\, MO\, 64105\, United States
CATEGORIES:Kansas City Music Hall,Theater
END:VEVENT
END:VCALENDAR