BEGIN:VCALENDAR
VERSION:2.0
PRODID:-//Live &#039;80s Kansas City - ECPv5.6.0//NONSGML v1.0//EN
CALSCALE:GREGORIAN
METHOD:PUBLISH
X-WR-CALNAME:Live &#039;80s Kansas City
X-ORIGINAL-URL:https://www.live80skc.com
X-WR-CALDESC:Events for Live &#039;80s Kansas City
BEGIN:VTIMEZONE
TZID:America/Chicago
BEGIN:DAYLIGHT
TZOFFSETFROM:-0600
TZOFFSETTO:-0500
TZNAME:CDT
DTSTART:20250309T080000
END:DAYLIGHT
BEGIN:STANDARD
TZOFFSETFROM:-0500
TZOFFSETTO:-0600
TZNAME:CST
DTSTART:20251102T070000
END:STANDARD
END:VTIMEZONE
BEGIN:VEVENT
DTSTART;TZID=America/Chicago:20250809T190000
DTEND;TZID=America/Chicago:20250809T220000
DTSTAMP:20260423T035706
CREATED:20250313T154059Z
LAST-MODIFIED:20250313T154059Z
UID:16327-1754766000-1754776800@www.live80skc.com
SUMMARY:Cyndi Lauper
DESCRIPTION:
URL:https://www.live80skc.com/kansas-city-concert/cyndi-lauper-azura-amp-bonner-springs-2025/
LOCATION:Azura Amphitheater\, 633 North 130th Street\, Bonner Springs\, KS\, 66012\, United States
END:VEVENT
END:VCALENDAR