BEGIN:VCALENDAR
VERSION:2.0
PRODID:-//Live &#039;80s Kansas City - ECPv5.6.0//NONSGML v1.0//EN
CALSCALE:GREGORIAN
METHOD:PUBLISH
X-WR-CALNAME:Live &#039;80s Kansas City
X-ORIGINAL-URL:https://www.live80skc.com
X-WR-CALDESC:Events for Live &#039;80s Kansas City
BEGIN:VTIMEZONE
TZID:America/Chicago
BEGIN:DAYLIGHT
TZOFFSETFROM:-0600
TZOFFSETTO:-0500
TZNAME:CDT
DTSTART:20230312T080000
END:DAYLIGHT
BEGIN:STANDARD
TZOFFSETFROM:-0500
TZOFFSETTO:-0600
TZNAME:CST
DTSTART:20231105T070000
END:STANDARD
END:VTIMEZONE
BEGIN:VEVENT
DTSTART;TZID=America/Chicago:20230715T193000
DTEND;TZID=America/Chicago:20230715T220000
DTSTAMP:20260423T064242
CREATED:20230402T174818Z
LAST-MODIFIED:20230402T174818Z
UID:13327-1689449400-1689458400@www.live80skc.com
SUMMARY:Dave Koz & Friends: Summer Horns
DESCRIPTION:
URL:https://www.live80skc.com/kansas-city-concert/dave-koz-friends-summer-horns-kauffman-center-2023/
LOCATION:Kauffman Center for the Performing Arts\, 1601 Broadway Boulevard\, Kansas City\, MO\, 64108\, United States
CATEGORIES:Kauffman Center,Theater
END:VEVENT
END:VCALENDAR