BEGIN:VCALENDAR
VERSION:2.0
PRODID:-//Live &#039;80s Kansas City - ECPv5.6.0//NONSGML v1.0//EN
CALSCALE:GREGORIAN
METHOD:PUBLISH
X-WR-CALNAME:Live &#039;80s Kansas City
X-ORIGINAL-URL:https://www.live80skc.com
X-WR-CALDESC:Events for Live &#039;80s Kansas City
BEGIN:VTIMEZONE
TZID:America/Chicago
BEGIN:DAYLIGHT
TZOFFSETFROM:-0600
TZOFFSETTO:-0500
TZNAME:CDT
DTSTART:20210314T080000
END:DAYLIGHT
BEGIN:STANDARD
TZOFFSETFROM:-0500
TZOFFSETTO:-0600
TZNAME:CST
DTSTART:20211107T070000
END:STANDARD
END:VTIMEZONE
BEGIN:VEVENT
DTSTART;TZID=America/Chicago:20210521T203000
DTEND;TZID=America/Chicago:20210521T220000
DTSTAMP:20260423T054032
CREATED:20201229T041327Z
LAST-MODIFIED:20201229T041327Z
UID:10705-1621629000-1621634400@www.live80skc.com
SUMMARY:David Allan Coe
DESCRIPTION:
URL:https://www.live80skc.com/kansas-city-concert/david-allan-coe-knuckleheads-saloon-2021/
LOCATION:Knuckleheads Saloon\, 2715 Rochester Avenue\, Kansas City\, MO\, 64120\, United States
CATEGORIES:Club,Knuckleheads Saloon
END:VEVENT
END:VCALENDAR