BEGIN:VCALENDAR
VERSION:2.0
PRODID:-//Live &#039;80s Kansas City - ECPv5.6.0//NONSGML v1.0//EN
CALSCALE:GREGORIAN
METHOD:PUBLISH
X-WR-CALNAME:Live &#039;80s Kansas City
X-ORIGINAL-URL:https://www.live80skc.com
X-WR-CALDESC:Events for Live &#039;80s Kansas City
BEGIN:VTIMEZONE
TZID:America/Chicago
BEGIN:DAYLIGHT
TZOFFSETFROM:-0600
TZOFFSETTO:-0500
TZNAME:CDT
DTSTART:20230312T080000
END:DAYLIGHT
BEGIN:STANDARD
TZOFFSETFROM:-0500
TZOFFSETTO:-0600
TZNAME:CST
DTSTART:20231105T070000
END:STANDARD
END:VTIMEZONE
BEGIN:VEVENT
DTSTART;TZID=America/Chicago:20230630T200000
DTEND;TZID=America/Chicago:20230630T220000
DTSTAMP:20260423T064256
CREATED:20230524T004350Z
LAST-MODIFIED:20230524T005616Z
UID:13650-1688155200-1688162400@www.live80skc.com
SUMMARY:Debbie Gibson
DESCRIPTION:
URL:https://www.live80skc.com/kansas-city-concert/debbie-gibson-river-city-casino-hotel-st-louis-2023/
LOCATION:River City Casino Hotel\, 777 River City Casino Blvd\, St. Louis\, MO\, 63125\, United States
CATEGORIES:Casino,River City Casino Hotel
END:VEVENT
END:VCALENDAR