BEGIN:VCALENDAR
VERSION:2.0
PRODID:-//Live &#039;80s Kansas City - ECPv5.6.0//NONSGML v1.0//EN
CALSCALE:GREGORIAN
METHOD:PUBLISH
X-WR-CALNAME:Live &#039;80s Kansas City
X-ORIGINAL-URL:https://www.live80skc.com
X-WR-CALDESC:Events for Live &#039;80s Kansas City
BEGIN:VTIMEZONE
TZID:America/Chicago
BEGIN:DAYLIGHT
TZOFFSETFROM:-0600
TZOFFSETTO:-0500
TZNAME:CDT
DTSTART:20220313T080000
END:DAYLIGHT
BEGIN:STANDARD
TZOFFSETFROM:-0500
TZOFFSETTO:-0600
TZNAME:CST
DTSTART:20221106T070000
END:STANDARD
END:VTIMEZONE
BEGIN:VEVENT
DTSTART;TZID=America/Chicago:20220719T163000
DTEND;TZID=America/Chicago:20220719T230000
DTSTAMP:20260423T051939
CREATED:20200116T030959Z
LAST-MODIFIED:20210521T024649Z
UID:10162-1658248200-1658271600@www.live80skc.com
SUMMARY:Def Leppard w/ Mötley Crüe\, Poison & Joan Jett and the Blackhearts
DESCRIPTION:
URL:https://www.live80skc.com/kansas-city-concert/def-leppard-motley-crue-poison-joan-jett-kauffman-stadium-2022/
LOCATION:Kauffman Stadium\, 1 Royal Way\, Kansas City\, Missouri\, 64129
CATEGORIES:Kauffman Stadium,Stadium
END:VEVENT
END:VCALENDAR