BEGIN:VCALENDAR
VERSION:2.0
PRODID:-//Live &#039;80s Kansas City - ECPv5.6.0//NONSGML v1.0//EN
CALSCALE:GREGORIAN
METHOD:PUBLISH
X-WR-CALNAME:Live &#039;80s Kansas City
X-ORIGINAL-URL:https://www.live80skc.com
X-WR-CALDESC:Events for Live &#039;80s Kansas City
BEGIN:VTIMEZONE
TZID:America/Chicago
BEGIN:DAYLIGHT
TZOFFSETFROM:-0600
TZOFFSETTO:-0500
TZNAME:CDT
DTSTART:20220313T080000
END:DAYLIGHT
BEGIN:STANDARD
TZOFFSETFROM:-0500
TZOFFSETTO:-0600
TZNAME:CST
DTSTART:20221106T070000
END:STANDARD
END:VTIMEZONE
BEGIN:VEVENT
DTSTART;TZID=America/Chicago:20220924T200000
DTEND;TZID=America/Chicago:20220924T230000
DTSTAMP:20260423T063922
CREATED:20210318T023516Z
LAST-MODIFIED:20220211T050028Z
UID:10766-1664049600-1664060400@www.live80skc.com
SUMMARY:Dinosaur Jr.
DESCRIPTION:
URL:https://www.live80skc.com/kansas-city-concert/dinosaur-jr-truman-2022/
LOCATION:The Truman\, 601 E. Truman Rd.\, Kansas CIty\, MO\, 64106\, United States
CATEGORIES:Club,The Truman
END:VEVENT
END:VCALENDAR