BEGIN:VCALENDAR
VERSION:2.0
PRODID:-//Live &#039;80s Kansas City - ECPv5.6.0//NONSGML v1.0//EN
CALSCALE:GREGORIAN
METHOD:PUBLISH
X-WR-CALNAME:Live &#039;80s Kansas City
X-ORIGINAL-URL:https://www.live80skc.com
X-WR-CALDESC:Events for Live &#039;80s Kansas City
BEGIN:VTIMEZONE
TZID:America/Chicago
BEGIN:DAYLIGHT
TZOFFSETFROM:-0600
TZOFFSETTO:-0500
TZNAME:CDT
DTSTART:20230312T080000
END:DAYLIGHT
BEGIN:STANDARD
TZOFFSETFROM:-0500
TZOFFSETTO:-0600
TZNAME:CST
DTSTART:20231105T070000
END:STANDARD
END:VTIMEZONE
BEGIN:VEVENT
DTSTART;TZID=America/Chicago:20230614T193000
DTEND;TZID=America/Chicago:20230614T230000
DTSTAMP:20260423T040501
CREATED:20230303T035801Z
LAST-MODIFIED:20230303T035801Z
UID:13143-1686771000-1686783600@www.live80skc.com
SUMMARY:The Doobie Brothers - 50th Anniversary Tour
DESCRIPTION:
URL:https://www.live80skc.com/kansas-city-concert/doobie-brothers-starlight-theatre-2023/
LOCATION:Starlight Theatre\, 4600 Starlight Road\, Kansas City\, MO\, 64132\, United States
CATEGORIES:Starlight Theatre,Theater
END:VEVENT
END:VCALENDAR