BEGIN:VCALENDAR
VERSION:2.0
PRODID:-//Live &#039;80s Kansas City - ECPv5.6.0//NONSGML v1.0//EN
CALSCALE:GREGORIAN
METHOD:PUBLISH
X-WR-CALNAME:Live &#039;80s Kansas City
X-ORIGINAL-URL:https://www.live80skc.com
X-WR-CALDESC:Events for Live &#039;80s Kansas City
BEGIN:VTIMEZONE
TZID:America/Chicago
BEGIN:DAYLIGHT
TZOFFSETFROM:-0600
TZOFFSETTO:-0500
TZNAME:CDT
DTSTART:20180311T080000
END:DAYLIGHT
BEGIN:STANDARD
TZOFFSETFROM:-0500
TZOFFSETTO:-0600
TZNAME:CST
DTSTART:20181104T070000
END:STANDARD
END:VTIMEZONE
BEGIN:VEVENT
DTSTART;TZID=America/Chicago:20180318T190000
DTEND;TZID=America/Chicago:20180318T220000
DTSTAMP:20260423T051703
CREATED:20170829T022059Z
LAST-MODIFIED:20171203T181224Z
UID:4836-1521399600-1521410400@www.live80skc.com
SUMMARY:Doyle Wolfgang von Frankenstein of Misfits
DESCRIPTION:
URL:https://www.live80skc.com/kansas-city-concert/doyle-wolfgang-von-frankenstein-misfits-aftershock/
LOCATION:Aftershock\, 5240 Merriam Drive\, Merriam\, 66203\, United States
CATEGORIES:Aftershock,Club
END:VEVENT
END:VCALENDAR