BEGIN:VCALENDAR
VERSION:2.0
PRODID:-//Live &#039;80s Kansas City - ECPv5.6.0//NONSGML v1.0//EN
CALSCALE:GREGORIAN
METHOD:PUBLISH
X-WR-CALNAME:Live &#039;80s Kansas City
X-ORIGINAL-URL:https://www.live80skc.com
X-WR-CALDESC:Events for Live &#039;80s Kansas City
BEGIN:VTIMEZONE
TZID:America/Chicago
BEGIN:DAYLIGHT
TZOFFSETFROM:-0600
TZOFFSETTO:-0500
TZNAME:CDT
DTSTART:20220313T080000
END:DAYLIGHT
BEGIN:STANDARD
TZOFFSETFROM:-0500
TZOFFSETTO:-0600
TZNAME:CST
DTSTART:20221106T070000
END:STANDARD
END:VTIMEZONE
BEGIN:VEVENT
DTSTART;TZID=America/Chicago:20220610T200000
DTEND;TZID=America/Chicago:20220610T230000
DTSTAMP:20260423T024544
CREATED:20220324T001012Z
LAST-MODIFIED:20220324T001843Z
UID:11942-1654891200-1654902000@www.live80skc.com
SUMMARY:Taylor Dayne\, Tiffany & All-4-One
DESCRIPTION:Night 1 at Everybody’s Favorite BBQ & Hot Sauce Festival
URL:https://www.live80skc.com/kansas-city-concert/everybodys-favorite-bbq-hot-sauce-festival-night-1-2022/
LOCATION:E.H. Young Riverfront Park\, 1001 Argosy Parkway\, Kansas City\, MO\, 64150\, United States
CATEGORIES:Festival
END:VEVENT
END:VCALENDAR