BEGIN:VCALENDAR
VERSION:2.0
PRODID:-//Live &#039;80s Kansas City - ECPv5.6.0//NONSGML v1.0//EN
CALSCALE:GREGORIAN
METHOD:PUBLISH
X-WR-CALNAME:Live &#039;80s Kansas City
X-ORIGINAL-URL:https://www.live80skc.com
X-WR-CALDESC:Events for Live &#039;80s Kansas City
BEGIN:VTIMEZONE
TZID:America/Chicago
BEGIN:DAYLIGHT
TZOFFSETFROM:-0600
TZOFFSETTO:-0500
TZNAME:CDT
DTSTART:20210314T080000
END:DAYLIGHT
BEGIN:STANDARD
TZOFFSETFROM:-0500
TZOFFSETTO:-0600
TZNAME:CST
DTSTART:20211107T070000
END:STANDARD
END:VTIMEZONE
BEGIN:VEVENT
DTSTART;TZID=America/Chicago:20210625T190000
DTEND;TZID=America/Chicago:20210625T190000
DTSTAMP:20260423T080853
CREATED:20210522T184019Z
LAST-MODIFIED:20210522T184019Z
UID:10898-1624647600-1624647600@www.live80skc.com
SUMMARY:Faster Pussycat & Enuff Z'Nuff
DESCRIPTION:
URL:https://www.live80skc.com/kansas-city-concert/faster-pussycat-enuff-znuff-the-scene-2021/
LOCATION:The Scene K.C. Rock Bar\, 14816 East US 40 Highway\, Kansas City\, MO\, 64136\, United States
CATEGORIES:Club,The Scene
END:VEVENT
END:VCALENDAR