BEGIN:VCALENDAR
VERSION:2.0
PRODID:-//Live &#039;80s Kansas City - ECPv5.6.0//NONSGML v1.0//EN
CALSCALE:GREGORIAN
METHOD:PUBLISH
X-WR-CALNAME:Live &#039;80s Kansas City
X-ORIGINAL-URL:https://www.live80skc.com
X-WR-CALDESC:Events for Live &#039;80s Kansas City
BEGIN:VTIMEZONE
TZID:America/Chicago
BEGIN:DAYLIGHT
TZOFFSETFROM:-0600
TZOFFSETTO:-0500
TZNAME:CDT
DTSTART:20160313T080000
END:DAYLIGHT
BEGIN:STANDARD
TZOFFSETFROM:-0500
TZOFFSETTO:-0600
TZNAME:CST
DTSTART:20161106T070000
END:STANDARD
END:VTIMEZONE
BEGIN:VEVENT
DTSTART;TZID=America/Chicago:20160608T190000
DTEND;TZID=America/Chicago:20160608T210000
DTSTAMP:20260423T093751
CREATED:20160607T173043Z
LAST-MODIFIED:20160607T173134Z
UID:2752-1465412400-1465419600@www.live80skc.com
SUMMARY:Fathom Presents: "Ghostbusters" (1984)
DESCRIPTION:
URL:https://www.live80skc.com/kansas-city-concert/fathom-presents-ghostbusters-1984/
LOCATION:Alamo Drafthouse\, 1400 Main Street\, Kansas City\, MO\, 64105\, United States
END:VEVENT
END:VCALENDAR