BEGIN:VCALENDAR
VERSION:2.0
PRODID:-//Live &#039;80s Kansas City - ECPv5.6.0//NONSGML v1.0//EN
CALSCALE:GREGORIAN
METHOD:PUBLISH
X-WR-CALNAME:Live &#039;80s Kansas City
X-ORIGINAL-URL:https://www.live80skc.com
X-WR-CALDESC:Events for Live &#039;80s Kansas City
BEGIN:VTIMEZONE
TZID:America/Chicago
BEGIN:DAYLIGHT
TZOFFSETFROM:-0600
TZOFFSETTO:-0500
TZNAME:CDT
DTSTART:20230312T080000
END:DAYLIGHT
BEGIN:STANDARD
TZOFFSETFROM:-0500
TZOFFSETTO:-0600
TZNAME:CST
DTSTART:20231105T070000
END:STANDARD
END:VTIMEZONE
BEGIN:VEVENT
DTSTART;TZID=America/Chicago:20230502T200000
DTEND;TZID=America/Chicago:20230502T220000
DTSTAMP:20260423T035629
CREATED:20221201T041753Z
LAST-MODIFIED:20221201T041753Z
UID:12964-1683057600-1683064800@www.live80skc.com
SUMMARY:Foreigner: The Greatest Hits
DESCRIPTION:
URL:https://www.live80skc.com/kansas-city-concert/foreigner-stormont-vail-events-center-topeka-ks-2023/
LOCATION:Stormont Vail Events Center\, 1 Expocentre Dr\, Topeka\, KS\, 66612\, United States
CATEGORIES:Big Arena,Stormont Vail Events Center
END:VEVENT
END:VCALENDAR