BEGIN:VCALENDAR
VERSION:2.0
PRODID:-//Live &#039;80s Kansas City - ECPv5.6.0//NONSGML v1.0//EN
CALSCALE:GREGORIAN
METHOD:PUBLISH
X-WR-CALNAME:Live &#039;80s Kansas City
X-ORIGINAL-URL:https://www.live80skc.com
X-WR-CALDESC:Events for Live &#039;80s Kansas City
BEGIN:VTIMEZONE
TZID:UTC
BEGIN:STANDARD
TZOFFSETFROM:+0000
TZOFFSETTO:+0000
TZNAME:UTC
DTSTART:20160101T000000
END:STANDARD
END:VTIMEZONE
BEGIN:VEVENT
DTSTART;TZID=UTC:20160625T200000
DTEND;TZID=UTC:20160625T230000
DTSTAMP:20260423T051724
CREATED:20160509T013310Z
LAST-MODIFIED:20160525T053327Z
UID:2270-1466884800-1466895600@www.live80skc.com
SUMMARY:Free State Festival feat. Public Enemy
DESCRIPTION:
URL:https://www.live80skc.com/kansas-city-concert/free-state-festival-feat-public-enemy/
LOCATION:Unnamed Venue\, 940 New Hampshire Street\, Lawrence\, 66044\, United States
END:VEVENT
END:VCALENDAR