BEGIN:VCALENDAR
VERSION:2.0
PRODID:-//Live &#039;80s Kansas City - ECPv5.6.0//NONSGML v1.0//EN
CALSCALE:GREGORIAN
METHOD:PUBLISH
X-WR-CALNAME:Live &#039;80s Kansas City
X-ORIGINAL-URL:https://www.live80skc.com
X-WR-CALDESC:Events for Live &#039;80s Kansas City
BEGIN:VTIMEZONE
TZID:America/Chicago
BEGIN:DAYLIGHT
TZOFFSETFROM:-0600
TZOFFSETTO:-0500
TZNAME:CDT
DTSTART:20210314T080000
END:DAYLIGHT
BEGIN:STANDARD
TZOFFSETFROM:-0500
TZOFFSETTO:-0600
TZNAME:CST
DTSTART:20211107T070000
END:STANDARD
END:VTIMEZONE
BEGIN:VEVENT
DTSTART;TZID=America/Chicago:20211209T193000
DTEND;TZID=America/Chicago:20211209T220000
DTSTAMP:20260423T041430
CREATED:20211026T040330Z
LAST-MODIFIED:20211026T040330Z
UID:11514-1639078200-1639087200@www.live80skc.com
SUMMARY:The Gatlin Brothers: Country & Christmas
DESCRIPTION:
URL:https://www.live80skc.com/kansas-city-concert/gatlin-brothers-prairie-band-casino-mayetta-ks-2021/
LOCATION:Prairie Band Casino & Resort\, 12305 150th Road\, Mayetta\, KS\, 66509\, United States
CATEGORIES:Casino,Prairie Band Casino
END:VEVENT
END:VCALENDAR