BEGIN:VCALENDAR
VERSION:2.0
PRODID:-//Live &#039;80s Kansas City - ECPv5.6.0//NONSGML v1.0//EN
CALSCALE:GREGORIAN
METHOD:PUBLISH
X-WR-CALNAME:Live &#039;80s Kansas City
X-ORIGINAL-URL:https://www.live80skc.com
X-WR-CALDESC:Events for Live &#039;80s Kansas City
BEGIN:VTIMEZONE
TZID:America/Chicago
BEGIN:DAYLIGHT
TZOFFSETFROM:-0600
TZOFFSETTO:-0500
TZNAME:CDT
DTSTART:20200308T080000
END:DAYLIGHT
BEGIN:STANDARD
TZOFFSETFROM:-0500
TZOFFSETTO:-0600
TZNAME:CST
DTSTART:20201101T070000
END:STANDARD
END:VTIMEZONE
BEGIN:VEVENT
DTSTART;TZID=America/Chicago:20200124T200000
DTEND;TZID=America/Chicago:20200124T230000
DTSTAMP:20260423T051911
CREATED:20191215T175107Z
LAST-MODIFIED:20191215T175107Z
UID:10116-1579896000-1579906800@www.live80skc.com
SUMMARY:George Strait
DESCRIPTION:
URL:https://www.live80skc.com/kansas-city-concert/george-strait-intrust-bank-arena-wichita-ks-2020/
LOCATION:INTRUST Bank Arena\, 500 E. Waterman St.\, Wichita\, KS\, 67202\, United States
CATEGORIES:Big Arena,INTRUST Bank Arena
END:VEVENT
END:VCALENDAR