BEGIN:VCALENDAR
VERSION:2.0
PRODID:-//Live &#039;80s Kansas City - ECPv5.6.0//NONSGML v1.0//EN
CALSCALE:GREGORIAN
METHOD:PUBLISH
X-WR-CALNAME:Live &#039;80s Kansas City
X-ORIGINAL-URL:https://www.live80skc.com
X-WR-CALDESC:Events for Live &#039;80s Kansas City
BEGIN:VTIMEZONE
TZID:America/Chicago
BEGIN:DAYLIGHT
TZOFFSETFROM:-0600
TZOFFSETTO:-0500
TZNAME:CDT
DTSTART:20230312T080000
END:DAYLIGHT
BEGIN:STANDARD
TZOFFSETFROM:-0500
TZOFFSETTO:-0600
TZNAME:CST
DTSTART:20231105T070000
END:STANDARD
END:VTIMEZONE
BEGIN:VEVENT
DTSTART;TZID=America/Chicago:20230928T200000
DTEND;TZID=America/Chicago:20230928T230000
DTSTAMP:20260423T051924
CREATED:20230520T001506Z
LAST-MODIFIED:20230520T001506Z
UID:13636-1695931200-1695942000@www.live80skc.com
SUMMARY:Grand Funk Railroad & Jefferson Starship
DESCRIPTION:
URL:https://www.live80skc.com/kansas-city-concert/grand-funk-railroad-jefferson-starship-uptown-theater-2023/
LOCATION:Uptown Theater\, 3700 Broadway\, Kansas City\, MO\, 64111\, United States
CATEGORIES:Theater,Uptown Theater
END:VEVENT
END:VCALENDAR