BEGIN:VCALENDAR
VERSION:2.0
PRODID:-//Live &#039;80s Kansas City - ECPv5.6.0//NONSGML v1.0//EN
CALSCALE:GREGORIAN
METHOD:PUBLISH
X-WR-CALNAME:Live &#039;80s Kansas City
X-ORIGINAL-URL:https://www.live80skc.com
X-WR-CALDESC:Events for Live &#039;80s Kansas City
BEGIN:VTIMEZONE
TZID:UTC
BEGIN:STANDARD
TZOFFSETFROM:+0000
TZOFFSETTO:+0000
TZNAME:UTC
DTSTART:20160101T000000
END:STANDARD
END:VTIMEZONE
BEGIN:VEVENT
DTSTART;TZID=UTC:20160629T190000
DTEND;TZID=UTC:20160629T230000
DTSTAMP:20260423T080622
CREATED:20160414T044624Z
LAST-MODIFIED:20160529T203914Z
UID:2158-1467226800-1467241200@www.live80skc.com
SUMMARY:Guns N' Roses
DESCRIPTION:
URL:https://www.live80skc.com/kansas-city-concert/guns-n-roses/
LOCATION:Arrowhead Stadium\, 1 Arrowhead Drive\, Kansas City\, MO\, 64129\, United States
END:VEVENT
END:VCALENDAR