BEGIN:VCALENDAR
VERSION:2.0
PRODID:-//Live &#039;80s Kansas City - ECPv5.6.0//NONSGML v1.0//EN
CALSCALE:GREGORIAN
METHOD:PUBLISH
X-WR-CALNAME:Live &#039;80s Kansas City
X-ORIGINAL-URL:https://www.live80skc.com
X-WR-CALDESC:Events for Live &#039;80s Kansas City
BEGIN:VTIMEZONE
TZID:America/Chicago
BEGIN:DAYLIGHT
TZOFFSETFROM:-0600
TZOFFSETTO:-0500
TZNAME:CDT
DTSTART:20180311T080000
END:DAYLIGHT
BEGIN:STANDARD
TZOFFSETFROM:-0500
TZOFFSETTO:-0600
TZNAME:CST
DTSTART:20181104T070000
END:STANDARD
END:VTIMEZONE
BEGIN:VEVENT
DTSTART;TZID=America/Chicago:20181219T200000
DTEND;TZID=America/Chicago:20181219T230000
DTSTAMP:20260423T064302
CREATED:20181107T014827Z
LAST-MODIFIED:20181107T014827Z
UID:7649-1545249600-1545260400@www.live80skc.com
SUMMARY:Harry Connick Jr.
DESCRIPTION:
URL:https://www.live80skc.com/kansas-city-concert/harry-connick-jr-midland-theatre-kansas-city-2018/
LOCATION:The Midland Theatre\, 1228 Main Street\, Kansas City\, MO\, 64105\, United States
CATEGORIES:The Midland,Theater
END:VEVENT
END:VCALENDAR