BEGIN:VCALENDAR
VERSION:2.0
PRODID:-//Live &#039;80s Kansas City - ECPv5.6.0//NONSGML v1.0//EN
CALSCALE:GREGORIAN
METHOD:PUBLISH
X-WR-CALNAME:Live &#039;80s Kansas City
X-ORIGINAL-URL:https://www.live80skc.com
X-WR-CALDESC:Events for Live &#039;80s Kansas City
BEGIN:VTIMEZONE
TZID:America/Chicago
BEGIN:DAYLIGHT
TZOFFSETFROM:-0600
TZOFFSETTO:-0500
TZNAME:CDT
DTSTART:20180311T080000
END:DAYLIGHT
BEGIN:STANDARD
TZOFFSETFROM:-0500
TZOFFSETTO:-0600
TZNAME:CST
DTSTART:20181104T070000
END:STANDARD
END:VTIMEZONE
BEGIN:VEVENT
DTSTART;TZID=America/Chicago:20180602T193000
DTEND;TZID=America/Chicago:20180602T223000
DTSTAMP:20260423T064019
CREATED:20180423T014951Z
LAST-MODIFIED:20180423T014951Z
UID:6027-1527967800-1527978600@www.live80skc.com
SUMMARY:Head East & Rick Derringer
DESCRIPTION:
URL:https://www.live80skc.com/kansas-city-concert/head-east-rick-derringer-old-shawnee-days-2018/
LOCATION:Old Shawnee Days\, 11600 Johnson Drive\, Shawnee\, KS\, 66203\, United States
CATEGORIES:Festival
END:VEVENT
END:VCALENDAR