BEGIN:VCALENDAR
VERSION:2.0
PRODID:-//Live &#039;80s Kansas City - ECPv5.6.0//NONSGML v1.0//EN
CALSCALE:GREGORIAN
METHOD:PUBLISH
X-WR-CALNAME:Live &#039;80s Kansas City
X-ORIGINAL-URL:https://www.live80skc.com
X-WR-CALDESC:Events for Live &#039;80s Kansas City
BEGIN:VTIMEZONE
TZID:America/Chicago
BEGIN:DAYLIGHT
TZOFFSETFROM:-0600
TZOFFSETTO:-0500
TZNAME:CDT
DTSTART:20250309T080000
END:DAYLIGHT
BEGIN:STANDARD
TZOFFSETFROM:-0500
TZOFFSETTO:-0600
TZNAME:CST
DTSTART:20251102T070000
END:STANDARD
END:VTIMEZONE
BEGIN:VEVENT
DTSTART;TZID=America/Chicago:20250821T193000
DTEND;TZID=America/Chicago:20250821T220000
DTSTAMP:20260423T051708
CREATED:20250423T203358Z
LAST-MODIFIED:20250807T183722Z
UID:16629-1755804600-1755813600@www.live80skc.com
SUMMARY:Heart w/ Todd Rundgren
DESCRIPTION:
URL:https://www.live80skc.com/kansas-city-concert/heart-t-mobile-center-2025/
LOCATION:T-Mobile Center\, 1407 Grand Boulevard\, Kansas City\, MO\, 64106\, United States
END:VEVENT
END:VCALENDAR