BEGIN:VCALENDAR
VERSION:2.0
PRODID:-//Live &#039;80s Kansas City - ECPv5.6.0//NONSGML v1.0//EN
CALSCALE:GREGORIAN
METHOD:PUBLISH
X-WR-CALNAME:Live &#039;80s Kansas City
X-ORIGINAL-URL:https://www.live80skc.com
X-WR-CALDESC:Events for Live &#039;80s Kansas City
BEGIN:VTIMEZONE
TZID:America/Chicago
BEGIN:DAYLIGHT
TZOFFSETFROM:-0600
TZOFFSETTO:-0500
TZNAME:CDT
DTSTART:20190310T080000
END:DAYLIGHT
BEGIN:STANDARD
TZOFFSETFROM:-0500
TZOFFSETTO:-0600
TZNAME:CST
DTSTART:20191103T070000
END:STANDARD
END:VTIMEZONE
BEGIN:VEVENT
DTSTART;TZID=America/Chicago:20191110T190000
DTEND;TZID=America/Chicago:20191110T230000
DTSTAMP:20260423T063927
CREATED:20190827T000915Z
LAST-MODIFIED:20190827T000915Z
UID:9627-1573412400-1573426800@www.live80skc.com
SUMMARY:Bret Michaels w/ Night Ranger\, Lita Ford & Joe Diffie
DESCRIPTION:
URL:https://www.live80skc.com/kansas-city-concert/hometown-heroes-sec-arena-2019/
LOCATION:Silverstein Eye Centers Arena\, 19100 East Valley View Parkway\, Independence\, MO\, 64055\, United States
CATEGORIES:Big Arena,Silverstein Eye Centers Arena
END:VEVENT
END:VCALENDAR