BEGIN:VCALENDAR
VERSION:2.0
PRODID:-//Live &#039;80s Kansas City - ECPv5.6.0//NONSGML v1.0//EN
CALSCALE:GREGORIAN
METHOD:PUBLISH
X-WR-CALNAME:Live &#039;80s Kansas City
X-ORIGINAL-URL:https://www.live80skc.com
X-WR-CALDESC:Events for Live &#039;80s Kansas City
BEGIN:VTIMEZONE
TZID:America/Chicago
BEGIN:DAYLIGHT
TZOFFSETFROM:-0600
TZOFFSETTO:-0500
TZNAME:CDT
DTSTART:20250309T080000
END:DAYLIGHT
BEGIN:STANDARD
TZOFFSETFROM:-0500
TZOFFSETTO:-0600
TZNAME:CST
DTSTART:20251102T070000
END:STANDARD
END:VTIMEZONE
BEGIN:VEVENT
DTSTART;TZID=America/Chicago:20250613T200000
DTEND;TZID=America/Chicago:20250613T200000
DTSTAMP:20260423T045939
CREATED:20250409T005937Z
LAST-MODIFIED:20250409T010002Z
UID:16563-1749844800-1749844800@www.live80skc.com
SUMMARY:A Flock of Seagulls w/ Animotion & Bow Wow Wow feat. Annabella
DESCRIPTION:
URL:https://www.live80skc.com/kansas-city-concert/i-love-the-80s-uptown-theater-2025/
LOCATION:Uptown Theater\, 3700 Broadway\, Kansas City\, MO\, 64111\, United States
END:VEVENT
END:VCALENDAR