BEGIN:VCALENDAR
VERSION:2.0
PRODID:-//Live &#039;80s Kansas City - ECPv5.6.0//NONSGML v1.0//EN
CALSCALE:GREGORIAN
METHOD:PUBLISH
X-WR-CALNAME:Live &#039;80s Kansas City
X-ORIGINAL-URL:https://www.live80skc.com
X-WR-CALDESC:Events for Live &#039;80s Kansas City
BEGIN:VTIMEZONE
TZID:America/Chicago
BEGIN:DAYLIGHT
TZOFFSETFROM:-0600
TZOFFSETTO:-0500
TZNAME:CDT
DTSTART:20230312T080000
END:DAYLIGHT
BEGIN:STANDARD
TZOFFSETFROM:-0500
TZOFFSETTO:-0600
TZNAME:CST
DTSTART:20231105T070000
END:STANDARD
END:VTIMEZONE
BEGIN:VEVENT
DTSTART;TZID=America/Chicago:20230829T193000
DTEND;TZID=America/Chicago:20230829T230000
DTSTAMP:20260423T051937
CREATED:20230629T003254Z
LAST-MODIFIED:20230629T003254Z
UID:13772-1693337400-1693350000@www.live80skc.com
SUMMARY:I Want My '80s Tour
DESCRIPTION:Rick Springfield with The Hooters\, Paul Young & Tommy Tutone
URL:https://www.live80skc.com/kansas-city-concert/i-want-my-80s-tour-saint-louis-music-park-2023/
LOCATION:Saint Louis Music Park\, 750 Casino Center Drive\, Maryland Heights\, MO\, 63043\, United States
END:VEVENT
END:VCALENDAR