BEGIN:VCALENDAR
VERSION:2.0
PRODID:-//Live &#039;80s Kansas City - ECPv5.6.0//NONSGML v1.0//EN
CALSCALE:GREGORIAN
METHOD:PUBLISH
X-WR-CALNAME:Live &#039;80s Kansas City
X-ORIGINAL-URL:https://www.live80skc.com
X-WR-CALDESC:Events for Live &#039;80s Kansas City
BEGIN:VTIMEZONE
TZID:America/Chicago
BEGIN:DAYLIGHT
TZOFFSETFROM:-0600
TZOFFSETTO:-0500
TZNAME:CDT
DTSTART:20250309T080000
END:DAYLIGHT
BEGIN:STANDARD
TZOFFSETFROM:-0500
TZOFFSETTO:-0600
TZNAME:CST
DTSTART:20251102T070000
END:STANDARD
END:VTIMEZONE
BEGIN:VEVENT
DTSTART;TZID=America/Chicago:20251101T193000
DTEND;TZID=America/Chicago:20251101T220000
DTSTAMP:20260423T023715
CREATED:20250719T191930Z
LAST-MODIFIED:20250721T000329Z
UID:17191-1762025400-1762034400@www.live80skc.com
SUMMARY:Stop Making Sense w/ Jerry Harrison
DESCRIPTION:Screening of “Stop Making Sense” hosted by Jerry Harrison with intro\, post-screening comments and Q&A
URL:https://www.live80skc.com/kansas-city-concert/jerry-harrison-kauffman-center-2025/
LOCATION:Kauffman Center for the Performing Arts\, 1601 Broadway Boulevard\, Kansas City\, MO\, 64108\, United States
END:VEVENT
END:VCALENDAR