BEGIN:VCALENDAR
VERSION:2.0
PRODID:-//Live &#039;80s Kansas City - ECPv5.6.0//NONSGML v1.0//EN
CALSCALE:GREGORIAN
METHOD:PUBLISH
X-WR-CALNAME:Live &#039;80s Kansas City
X-ORIGINAL-URL:https://www.live80skc.com
X-WR-CALDESC:Events for Live &#039;80s Kansas City
BEGIN:VTIMEZONE
TZID:America/Chicago
BEGIN:DAYLIGHT
TZOFFSETFROM:-0600
TZOFFSETTO:-0500
TZNAME:CDT
DTSTART:20200308T080000
END:DAYLIGHT
BEGIN:STANDARD
TZOFFSETFROM:-0500
TZOFFSETTO:-0600
TZNAME:CST
DTSTART:20201101T070000
END:STANDARD
END:VTIMEZONE
BEGIN:VEVENT
DTSTART;TZID=America/Chicago:20201218T200000
DTEND;TZID=America/Chicago:20201218T230000
DTSTAMP:20260423T081040
CREATED:20201020T034605Z
LAST-MODIFIED:20201020T034605Z
UID:10648-1608321600-1608332400@www.live80skc.com
SUMMARY:Jesse James Dupree & Dixie Inc.
DESCRIPTION:
URL:https://www.live80skc.com/kansas-city-concert/jesse-james-dupree-dixie-inc-knucklheads-saloon-2020-2/
LOCATION:Knuckleheads Saloon\, 2715 Rochester Avenue\, Kansas City\, MO\, 64120\, United States
CATEGORIES:Club,Knuckleheads Saloon
END:VEVENT
END:VCALENDAR