BEGIN:VCALENDAR
VERSION:2.0
PRODID:-//Live &#039;80s Kansas City - ECPv5.6.0//NONSGML v1.0//EN
CALSCALE:GREGORIAN
METHOD:PUBLISH
X-WR-CALNAME:Live &#039;80s Kansas City
X-ORIGINAL-URL:https://www.live80skc.com
X-WR-CALDESC:Events for Live &#039;80s Kansas City
BEGIN:VTIMEZONE
TZID:America/Chicago
BEGIN:DAYLIGHT
TZOFFSETFROM:-0600
TZOFFSETTO:-0500
TZNAME:CDT
DTSTART:20190310T080000
END:DAYLIGHT
BEGIN:STANDARD
TZOFFSETFROM:-0500
TZOFFSETTO:-0600
TZNAME:CST
DTSTART:20191103T070000
END:STANDARD
END:VTIMEZONE
BEGIN:VEVENT
DTSTART;TZID=America/Chicago:20191101T193000
DTEND;TZID=America/Chicago:20191101T230000
DTSTAMP:20260423T040330
CREATED:20190507T195023Z
LAST-MODIFIED:20190909T232844Z
UID:8689-1572636600-1572649200@www.live80skc.com
SUMMARY:A Conversation with John Cusack + "Say Anything" Screening
DESCRIPTION:
URL:https://www.live80skc.com/kansas-city-concert/john-cusack-say-anything-midland-theatre-2019/
LOCATION:The Midland Theatre\, 1228 Main Street\, Kansas City\, MO\, 64105\, United States
CATEGORIES:Arvest Bank Theatre at The Midland
END:VEVENT
END:VCALENDAR