BEGIN:VCALENDAR
VERSION:2.0
PRODID:-//Live &#039;80s Kansas City - ECPv5.6.0//NONSGML v1.0//EN
CALSCALE:GREGORIAN
METHOD:PUBLISH
X-WR-CALNAME:Live &#039;80s Kansas City
X-ORIGINAL-URL:https://www.live80skc.com
X-WR-CALDESC:Events for Live &#039;80s Kansas City
BEGIN:VTIMEZONE
TZID:America/Chicago
BEGIN:DAYLIGHT
TZOFFSETFROM:-0600
TZOFFSETTO:-0500
TZNAME:CDT
DTSTART:20250309T080000
END:DAYLIGHT
BEGIN:STANDARD
TZOFFSETFROM:-0500
TZOFFSETTO:-0600
TZNAME:CST
DTSTART:20251102T070000
END:STANDARD
END:VTIMEZONE
BEGIN:VEVENT
DTSTART;TZID=America/Chicago:20250308T203000
DTEND;TZID=America/Chicago:20250308T223000
DTSTAMP:20260423T064019
CREATED:20241122T042757Z
LAST-MODIFIED:20241122T043357Z
UID:16030-1741465800-1741473000@www.live80skc.com
SUMMARY:John Waite
DESCRIPTION:
URL:https://www.live80skc.com/kansas-city-concert/john-waite-ameristar-casino-2025/
LOCATION:Ameristar Casino\, 3200 North Ameristar Drive\, Kansas City\, MO\, 64161\, United States
END:VEVENT
END:VCALENDAR