BEGIN:VCALENDAR
VERSION:2.0
PRODID:-//Live &#039;80s Kansas City - ECPv5.6.0//NONSGML v1.0//EN
CALSCALE:GREGORIAN
METHOD:PUBLISH
X-WR-CALNAME:Live &#039;80s Kansas City
X-ORIGINAL-URL:https://www.live80skc.com
X-WR-CALDESC:Events for Live &#039;80s Kansas City
BEGIN:VTIMEZONE
TZID:America/Chicago
BEGIN:DAYLIGHT
TZOFFSETFROM:-0600
TZOFFSETTO:-0500
TZNAME:CDT
DTSTART:20170312T080000
END:DAYLIGHT
BEGIN:STANDARD
TZOFFSETFROM:-0500
TZOFFSETTO:-0600
TZNAME:CST
DTSTART:20171105T070000
END:STANDARD
END:VTIMEZONE
BEGIN:VEVENT
DTSTART;TZID=America/Chicago:20170722T190000
DTEND;TZID=America/Chicago:20170722T220000
DTSTAMP:20260423T063951
CREATED:20170405T191231Z
LAST-MODIFIED:20170405T192300Z
UID:3821-1500750000-1500760800@www.live80skc.com
SUMMARY:Journey & Asia
DESCRIPTION:
URL:https://www.live80skc.com/kansas-city-concert/journey-asia-starlight-theatre/
LOCATION:Starlight Theatre\, 4600 Starlight Road\, Kansas City\, MO\, 64132\, United States
END:VEVENT
END:VCALENDAR